BEGIN:VCALENDAR
VERSION:2.0
PRODID:spatie/icalendar-generator
DESCRIPTION:Events from SE KS Baggers
X-WR-CALDESC:Events from SE KS Baggers
REFRESH-INTERVAL;VALUE=DURATION:PT1440M
X-PUBLISHED-TTL:PT1440M
BEGIN:VTIMEZONE
TZID:America/Chicago
BEGIN:DAYLIGHT
DTSTART:20250309T020000Z
TZOFFSETFROM:-0600
TZOFFSETTO:-0500
END:DAYLIGHT
BEGIN:STANDARD
DTSTART:20251102T020000Z
TZOFFSETFROM:-0500
TZOFFSETTO:-0600
END:STANDARD
END:VTIMEZONE
BEGIN:VTIMEZONE
TZID:UTC
BEGIN:STANDARD
DTSTART:20250726T013947Z
TZOFFSETFROM:+0000
TZOFFSETTO:+0000
END:STANDARD
END:VTIMEZONE
BEGIN:VEVENT
UID:316-4
DTSTAMP:20260422T013947Z
SUMMARY:TJ Morrow Cancer Benefit
LOCATION:
ORGANIZER;CN=jscovill1@cox.net:MAILTO:jscovill1@cox.net
DTSTART;TZID=America/Chicago:20250816T140000
DTEND;TZID=America/Chicago:20250816T150000
X-ALT-DESC;FMTTYPE=TEXT/HTML:&amp;nbsp\; Cornhole TJ Morrow Cancer benefit &amp;nbs
 p\;
CATEGORIES:General
URL;VALUE=URI:https://seksbaggers.com/mc-events/tj-morrow-cancer-benefit/
METHOD:PUBLISH
END:VEVENT
END:VCALENDAR