BEGIN:VCALENDAR
VERSION:2.0
PRODID:spatie/icalendar-generator
DESCRIPTION:Events from SE KS Baggers
X-WR-CALDESC:Events from SE KS Baggers
REFRESH-INTERVAL;VALUE=DURATION:PT1440M
X-PUBLISHED-TTL:PT1440M
BEGIN:VTIMEZONE
TZID:America/Chicago
BEGIN:DAYLIGHT
DTSTART:20250309T020000Z
TZOFFSETFROM:-0600
TZOFFSETTO:-0500
END:DAYLIGHT
BEGIN:STANDARD
DTSTART:20251102T020000Z
TZOFFSETFROM:-0500
TZOFFSETTO:-0600
END:STANDARD
BEGIN:DAYLIGHT
DTSTART:20260308T020000Z
TZOFFSETFROM:-0600
TZOFFSETTO:-0500
END:DAYLIGHT
END:VTIMEZONE
BEGIN:VTIMEZONE
TZID:UTC
BEGIN:STANDARD
DTSTART:20250726T011921Z
TZOFFSETFROM:+0000
TZOFFSETTO:+0000
END:STANDARD
END:VTIMEZONE
BEGIN:VEVENT
UID:321-6
DTSTAMP:20260422T011921Z
SUMMARY:Bark for the Park Cornhole Tournament
LOCATION:
ORGANIZER;CN=jscovill1@cox.net:MAILTO:jscovill1@cox.net
DTSTART;TZID=America/Chicago:20250927T110000
DTEND;TZID=America/Chicago:20250927T130000
X-ALT-DESC;FMTTYPE=TEXT/HTML:&amp;nbsp\; Cornhole Bark for the Park Fund Raiser
  &amp;nbsp\;
CATEGORIES:General
URL;VALUE=URI:https://seksbaggers.com/mc-events/bark-for-the-park-cornhole-
 tournament/
METHOD:PUBLISH
END:VEVENT
END:VCALENDAR