BEGIN:VCALENDAR
VERSION:2.0
PRODID:spatie/icalendar-generator
DESCRIPTION:Events from SE KS Baggers
X-WR-CALDESC:Events from SE KS Baggers
REFRESH-INTERVAL;VALUE=DURATION:PT1440M
X-PUBLISHED-TTL:PT1440M
BEGIN:VTIMEZONE
TZID:America/Chicago
BEGIN:DAYLIGHT
DTSTART:20260308T020000Z
TZOFFSETFROM:-0600
TZOFFSETTO:-0500
END:DAYLIGHT
BEGIN:STANDARD
DTSTART:20261101T020000Z
TZOFFSETFROM:-0500
TZOFFSETTO:-0600
END:STANDARD
BEGIN:DAYLIGHT
DTSTART:20270314T020000Z
TZOFFSETFROM:-0600
TZOFFSETTO:-0500
END:DAYLIGHT
END:VTIMEZONE
BEGIN:VTIMEZONE
TZID:UTC
BEGIN:STANDARD
DTSTART:20250727T164829Z
TZOFFSETFROM:+0000
TZOFFSETTO:+0000
END:STANDARD
END:VTIMEZONE
BEGIN:VEVENT
UID:327-12
DTSTAMP:20260423T164829Z
SUMMARY:Moran Days Cornhole Tournament - Marmaton Lodge # 245 Masons
LOCATION:
ORGANIZER;CN=jscovill1@cox.net:MAILTO:jscovill1@cox.net
DTSTART;TZID=America/Chicago;VALUE=DATE:20260919
DTEND;TZID=America/Chicago;VALUE=DATE:20260920
X-ALT-DESC;FMTTYPE=TEXT/HTML:
CATEGORIES:General
URL;VALUE=URI:https://seksbaggers.com/mc-events/moran-days-cornhole-tournam
 ent-marmaton-lodge-245-masons-2/
METHOD:PUBLISH
END:VEVENT
END:VCALENDAR