BEGIN:VCALENDAR
VERSION:2.0
PRODID:spatie/icalendar-generator
DESCRIPTION:Events from SE KS Baggers
X-WR-CALDESC:Events from SE KS Baggers
REFRESH-INTERVAL;VALUE=DURATION:PT1440M
X-PUBLISHED-TTL:PT1440M
BEGIN:VTIMEZONE
TZID:America/Chicago
BEGIN:DAYLIGHT
DTSTART:20250309T020000Z
TZOFFSETFROM:-0600
TZOFFSETTO:-0500
END:DAYLIGHT
BEGIN:STANDARD
DTSTART:20251102T020000Z
TZOFFSETFROM:-0500
TZOFFSETTO:-0600
END:STANDARD
BEGIN:DAYLIGHT
DTSTART:20260308T020000Z
TZOFFSETFROM:-0600
TZOFFSETTO:-0500
END:DAYLIGHT
END:VTIMEZONE
BEGIN:VTIMEZONE
TZID:UTC
BEGIN:STANDARD
DTSTART:20250725T201348Z
TZOFFSETFROM:+0000
TZOFFSETTO:+0000
END:STANDARD
END:VTIMEZONE
BEGIN:VEVENT
UID:322-7
DTSTAMP:20260421T201348Z
SUMMARY:Farm City Days Cornhole Tournament
LOCATION:Allen County Courthouse Lawn (Southeast Corner) 1 North Washington
   Iola KS 66749
ORGANIZER;CN=jscovill1@cox.net:MAILTO:jscovill1@cox.net
DTSTART;TZID=America/Chicago:20251018T140000
DTEND;TZID=America/Chicago:20251018T150000
X-ALT-DESC;FMTTYPE=TEXT/HTML:<p>Join SE KS Baggers for a Fund Raising Tourn
 ament<br />\nFor the Allen County Food Pantry during<br />\nFarm City Days
 <br />\nOn Saturday October 18th starting at 2:00pm</p>\n<p>There will be 
 a BYOP Double Elimination Tournament with Rounders.<br />\nThis will be a 
 50/50 tournament with half the entry to the Benefit<br />\nand half to the
  prize fund.<br />\nEntry will be $40/Team\,  Concessions will be availabl
 e.</p>\n<p>Link to the Tournament:<br />\nhttps://share.scoreholio.com/ZjV
 cUv0iqXb</p>\n
CATEGORIES:General
URL;VALUE=URI:https://seksbaggers.com/mc-events/farm-city-days-cornhole-tou
 rnament/
METHOD:PUBLISH
END:VEVENT
END:VCALENDAR